BEGIN:VCALENDAR
PRODID:-//Det Danske Spejderkorps//NONSGML Gruppeweb//EN
VERSION:2.0
CALSCALE:GREGORIAN
X-PUBLISHED-TTL:PT1H
X-WR-CALNAME:Minier i Thisted Spejderne
METHOD:PUBLISH
BEGIN:VEVENT
UID:gruppeweb.dk:6206:event:691
DTSTAMP:20260424T153031Z
LAST-MODIFIED:20250809T132617Z
SUMMARY:Børnekulturnatten
DESCRIPTION:\n
URL:https://www.thistedspejderne.dk/begivenhed/boernekulturnatten
DTSTART:20250912T150000Z
DTEND:20250912T190000Z
LOCATION:Christiansgave
END:VEVENT
BEGIN:VEVENT
UID:gruppeweb.dk:6206:event:698
DTSTAMP:20260424T153031Z
LAST-MODIFIED:20250816T093139Z
SUMMARY:Oprykningsdag m. famile
DESCRIPTION:\n
URL:https://www.thistedspejderne.dk/begivenhed/oprykningsdag-m-famile
DTSTART:20250830T080000Z
DTEND:20250830T150000Z
LOCATION:
END:VEVENT
BEGIN:VEVENT
UID:gruppeweb.dk:6206:event:735
DTSTAMP:20260424T153031Z
LAST-MODIFIED:20250809T135211Z
SUMMARY:Nat i naturen/sov ude
DESCRIPTION:\n
URL:https://www.thistedspejderne.dk/begivenhed/nat-i-naturensov-ude
DTSTART:20250906T150000Z
DTEND:20250907T080000Z
LOCATION:
END:VEVENT
BEGIN:VEVENT
UID:gruppeweb.dk:6206:event:736
DTSTAMP:20260424T153031Z
LAST-MODIFIED:20251116T192920Z
SUMMARY:Juleafslutning og juleoptog
DESCRIPTION:\n
URL:https://www.thistedspejderne.dk/begivenhed/juleafslutning-og-juleoptog-
 1
DTSTART:20251130T123000Z
DTEND:20251130T150000Z
LOCATION:Thistedspejderne\, Vegendalvej 15\, 7700 Thisted
END:VEVENT
BEGIN:VEVENT
UID:gruppeweb.dk:6206:event:838
DTSTAMP:20260424T153031Z
LAST-MODIFIED:20251116T185856Z
SUMMARY:Divisionsturnering med Vestjydske Division
DESCRIPTION:\n
URL:https://www.thistedspejderne.dk/begivenhed/divisionsturnering-med-vestj
 ydske-division
DTSTART;VALUE=DATE:20260417
DTEND;VALUE=DATE:20260420
LOCATION:Midtjylland
END:VEVENT
BEGIN:VEVENT
UID:gruppeweb.dk:6206:event:839
DTSTAMP:20260424T153031Z
LAST-MODIFIED:20251116T185857Z
SUMMARY:SL2026 - fællesdag med de andre spejdergrupper i kommunen
DESCRIPTION:\n
URL:https://www.thistedspejderne.dk/begivenhed/sl2026-faellesdag-med-de-and
 re-spejdergrupper-i-kommunen
DTSTART;VALUE=DATE:20260411
LOCATION:Thistedspejderne\, Vegendalvej 15\, 7700 Thisted
END:VEVENT
BEGIN:VEVENT
UID:gruppeweb.dk:6206:event:842
DTSTAMP:20260424T153031Z
LAST-MODIFIED:20251116T185900Z
SUMMARY:Fastelavn og grupperådsmøde
DESCRIPTION:\n
URL:https://www.thistedspejderne.dk/begivenhed/fastelavn-og-grupperaadsmoed
 e
DTSTART:20260222T000000Z
DTEND:20260222T160000Z
LOCATION:Thistedspejderne\, Vegendalvej 15\, 7700 Thisted
END:VEVENT
BEGIN:VEVENT
UID:gruppeweb.dk:6206:event:843
DTSTAMP:20260424T153031Z
LAST-MODIFIED:20251116T190859Z
SUMMARY:Fælles grenaften i Hanstholm
DESCRIPTION:\n
URL:https://www.thistedspejderne.dk/begivenhed/faelles-grenaften-i-hansthol
 m
DTSTART:20260505T150000Z
DTEND:20260505T163000Z
LOCATION:Hanstholm
END:VEVENT
BEGIN:VEVENT
UID:gruppeweb.dk:6206:event:845
DTSTAMP:20260424T153031Z
LAST-MODIFIED:20251116T191908Z
SUMMARY:Fælles grenaften på Tipi
DESCRIPTION:\n
URL:https://www.thistedspejderne.dk/begivenhed/faelles-grenaften-paa-tipi
DTSTART:20260916T150000Z
DTEND:20260916T163000Z
LOCATION:Lejrpladsen Tipi\, Tandrupvej 1\, 7700 Thisted
END:VEVENT
BEGIN:VEVENT
UID:gruppeweb.dk:6206:event:847
DTSTAMP:20260424T153031Z
LAST-MODIFIED:20260322T120855Z
SUMMARY:Fælles sommerferieafslutning
DESCRIPTION:\n
URL:https://www.thistedspejderne.dk/begivenhed/faelles-sommerferieafslutnin
 g
DTSTART:20260624T150000Z
DTEND:20260624T170000Z
LOCATION:Thistedspejderne\, Vegendalvej 15\, 7700 Thisted
END:VEVENT
BEGIN:VEVENT
UID:gruppeweb.dk:6206:event:848
DTSTAMP:20260424T153031Z
LAST-MODIFIED:20251116T191913Z
SUMMARY:Oprykningsdag
DESCRIPTION:\n
URL:https://www.thistedspejderne.dk/begivenhed/oprykningsdag
DTSTART;VALUE=DATE:20260830
LOCATION:Thistedspejderne\, Vegendalvej 15\, 7700 Thisted
END:VEVENT
BEGIN:VEVENT
UID:gruppeweb.dk:6206:event:850
DTSTAMP:20260424T153031Z
LAST-MODIFIED:20251116T191916Z
SUMMARY:Centerlejr på Tipi
DESCRIPTION:\n
URL:https://www.thistedspejderne.dk/begivenhed/centerlejr-paa-tipi
DTSTART;VALUE=DATE:20260514
DTEND;VALUE=DATE:20260518
LOCATION:Lejrpladsen Tipi\, Tandrupvej 1\, 7700 Thisted
END:VEVENT
BEGIN:VEVENT
UID:gruppeweb.dk:6206:event:851
DTSTAMP:20260424T153031Z
LAST-MODIFIED:20251116T191917Z
SUMMARY:National spejderdag - åben hus
DESCRIPTION:\n
URL:https://www.thistedspejderne.dk/begivenhed/national-spejderdag-aaben-hu
 s
DTSTART;VALUE=DATE:20260510
LOCATION:Thistedspejderne\, Vegendalvej 15\, 7700 Thisted
END:VEVENT
BEGIN:VEVENT
UID:gruppeweb.dk:6206:event:852
DTSTAMP:20260424T153031Z
LAST-MODIFIED:20251116T192914Z
SUMMARY:Fælles juleafslutning og juleoptog
DESCRIPTION:\n
URL:https://www.thistedspejderne.dk/begivenhed/faelles-juleafslutning-og-ju
 leoptog-0
DTSTART:20261129T123000Z
DTEND:20261129T153000Z
LOCATION:Thistedspejderne\, Vegendalvej 15\, 7700 Thisted
END:VEVENT
BEGIN:VEVENT
UID:gruppeweb.dk:6206:event:669
DTSTAMP:20260424T153031Z
LAST-MODIFIED:20250809T125137Z
SUMMARY:Mikro-minimøde
DESCRIPTION:\n
URL:https://www.thistedspejderne.dk/begivenhed/mikro-minimoede
DTSTART:20250812T150000Z
DTEND:20250812T163000Z
LOCATION:Thistedspejderne\, Vegendalvej 15\, 7700 Thisted
END:VEVENT
BEGIN:VEVENT
UID:gruppeweb.dk:6206:event:670
DTSTAMP:20260424T153031Z
LAST-MODIFIED:20250809T130018Z
SUMMARY:Mikro-minimøde
DESCRIPTION:\n
URL:https://www.thistedspejderne.dk/begivenhed/mikro-minimoede-0
DTSTART:20250902T150000Z
DTEND:20250902T163000Z
LOCATION:Thistedspejderne\, Vegendalvej 15\, 7700 Thisted
END:VEVENT
BEGIN:VEVENT
UID:gruppeweb.dk:6206:event:673
DTSTAMP:20260424T153031Z
LAST-MODIFIED:20250809T130022Z
SUMMARY:Mikro-minimøde
DESCRIPTION:\n
URL:https://www.thistedspejderne.dk/begivenhed/mikro-minimoede-1
DTSTART:20250819T150000Z
DTEND:20250819T163000Z
LOCATION:Thistedspejderne\, Vegendalvej 15\, 7700 Thisted
END:VEVENT
BEGIN:VEVENT
UID:gruppeweb.dk:6206:event:676
DTSTAMP:20260424T153031Z
LAST-MODIFIED:20250809T130024Z
SUMMARY:Mikro-minimøde
DESCRIPTION:\n
URL:https://www.thistedspejderne.dk/begivenhed/mikro-minimoede-2
DTSTART:20250826T150000Z
DTEND:20250826T163000Z
LOCATION:Thistedspejderne\, Vegendalvej 15\, 7700 Thisted
END:VEVENT
BEGIN:VEVENT
UID:gruppeweb.dk:6206:event:679
DTSTAMP:20260424T153031Z
LAST-MODIFIED:20250809T131733Z
SUMMARY:Mikro-minimøde
DESCRIPTION:\n
URL:https://www.thistedspejderne.dk/begivenhed/mikro-minimoede-3
DTSTART:20251125T160000Z
DTEND:20251125T173000Z
LOCATION:Thistedspejderne\, Vegendalvej 15\, 7700 Thisted
END:VEVENT
BEGIN:VEVENT
UID:gruppeweb.dk:6206:event:680
DTSTAMP:20260424T153031Z
LAST-MODIFIED:20250809T131733Z
SUMMARY:Mikro-minimøde
DESCRIPTION:\n
URL:https://www.thistedspejderne.dk/begivenhed/mikro-minimoede-4
DTSTART:20251118T160000Z
DTEND:20251118T173000Z
LOCATION:Thistedspejderne\, Vegendalvej 15\, 7700 Thisted
END:VEVENT
BEGIN:VEVENT
UID:gruppeweb.dk:6206:event:681
DTSTAMP:20260424T153031Z
LAST-MODIFIED:20250809T131733Z
SUMMARY:Mikro-minimøde
DESCRIPTION:\n
URL:https://www.thistedspejderne.dk/begivenhed/mikro-minimoede-5
DTSTART:20251111T160000Z
DTEND:20251111T173000Z
LOCATION:Thistedspejderne\, Vegendalvej 15\, 7700 Thisted
END:VEVENT
BEGIN:VEVENT
UID:gruppeweb.dk:6206:event:682
DTSTAMP:20260424T153031Z
LAST-MODIFIED:20250809T131733Z
SUMMARY:Mikro-minimøde
DESCRIPTION:\n
URL:https://www.thistedspejderne.dk/begivenhed/mikro-minimoede-6
DTSTART:20251104T160000Z
DTEND:20251104T173000Z
LOCATION:Thistedspejderne\, Vegendalvej 15\, 7700 Thisted
END:VEVENT
BEGIN:VEVENT
UID:gruppeweb.dk:6206:event:683
DTSTAMP:20260424T153031Z
LAST-MODIFIED:20250809T131733Z
SUMMARY:Mikro-minimøde
DESCRIPTION:\n
URL:https://www.thistedspejderne.dk/begivenhed/mikro-minimoede-7
DTSTART:20251028T160000Z
DTEND:20251028T173000Z
LOCATION:Thistedspejderne\, Vegendalvej 15\, 7700 Thisted
END:VEVENT
BEGIN:VEVENT
UID:gruppeweb.dk:6206:event:684
DTSTAMP:20260424T153031Z
LAST-MODIFIED:20250809T131733Z
SUMMARY:Mikro-minimøde
DESCRIPTION:\n
URL:https://www.thistedspejderne.dk/begivenhed/mikro-minimoede-8
DTSTART:20251021T150000Z
DTEND:20251021T163000Z
LOCATION:Thistedspejderne\, Vegendalvej 15\, 7700 Thisted
END:VEVENT
BEGIN:VEVENT
UID:gruppeweb.dk:6206:event:686
DTSTAMP:20260424T153031Z
LAST-MODIFIED:20250809T131733Z
SUMMARY:Mikro-minimøde
DESCRIPTION:\n
URL:https://www.thistedspejderne.dk/begivenhed/mikro-minimoede-9
DTSTART:20251007T150000Z
DTEND:20251007T163000Z
LOCATION:Thistedspejderne\, Vegendalvej 15\, 7700 Thisted
END:VEVENT
BEGIN:VEVENT
UID:gruppeweb.dk:6206:event:687
DTSTAMP:20260424T153031Z
LAST-MODIFIED:20250809T131733Z
SUMMARY:Mikro-minimøde
DESCRIPTION:\n
URL:https://www.thistedspejderne.dk/begivenhed/mikro-minimoede-10
DTSTART:20250930T150000Z
DTEND:20250930T163000Z
LOCATION:Thistedspejderne\, Vegendalvej 15\, 7700 Thisted
END:VEVENT
BEGIN:VEVENT
UID:gruppeweb.dk:6206:event:688
DTSTAMP:20260424T153031Z
LAST-MODIFIED:20250809T131733Z
SUMMARY:Mikro-minimøde
DESCRIPTION:\n
URL:https://www.thistedspejderne.dk/begivenhed/mikro-minimoede-11
DTSTART:20250923T150000Z
DTEND:20250923T163000Z
LOCATION:Thistedspejderne\, Vegendalvej 15\, 7700 Thisted
END:VEVENT
BEGIN:VEVENT
UID:gruppeweb.dk:6206:event:689
DTSTAMP:20260424T153031Z
LAST-MODIFIED:20250809T131733Z
SUMMARY:Mikro-minimøde
DESCRIPTION:\n
URL:https://www.thistedspejderne.dk/begivenhed/mikro-minimoede-12
DTSTART:20250916T150000Z
DTEND:20250916T163000Z
LOCATION:Thistedspejderne\, Vegendalvej 15\, 7700 Thisted
END:VEVENT
BEGIN:VEVENT
UID:gruppeweb.dk:6206:event:694
DTSTAMP:20260424T153031Z
LAST-MODIFIED:20250809T132621Z
SUMMARY:Fælles grenaften mikro/mini
DESCRIPTION:\n
URL:https://www.thistedspejderne.dk/begivenhed/faelles-grenaften-mikromini
DTSTART:20250910T150000Z
DTEND:20250910T163000Z
LOCATION:Lejrpladsen Tipi\, Tandrupvej 1\, 7700 Thisted
END:VEVENT
BEGIN:VEVENT
UID:gruppeweb.dk:6206:event:738
DTSTAMP:20260424T153031Z
LAST-MODIFIED:20250928T090837Z
SUMMARY:Juletræssalg
DESCRIPTION:\n
URL:https://www.thistedspejderne.dk/begivenhed/juletraessalg
DTSTART;VALUE=DATE:20251220
DTEND;VALUE=DATE:20251222
LOCATION:Thistedspejderne\, Vegendalvej 15\, 7700 Thisted
END:VEVENT
BEGIN:VEVENT
UID:gruppeweb.dk:6206:event:739
DTSTAMP:20260424T153031Z
LAST-MODIFIED:20250928T090840Z
SUMMARY:Julegavetur mikro og mini
DESCRIPTION:\n
URL:https://www.thistedspejderne.dk/begivenhed/julegavetur-mikro-og-mini
DTSTART;VALUE=DATE:20251122
DTEND;VALUE=DATE:20251124
LOCATION:Thistedspejderne\, Vegendalvej 15\, 7700 Thisted
END:VEVENT
BEGIN:VEVENT
UID:gruppeweb.dk:6206:event:747
DTSTAMP:20260424T153031Z
LAST-MODIFIED:20251116T183846Z
SUMMARY:Mikro-minimøde
DESCRIPTION:\n
URL:https://www.thistedspejderne.dk/begivenhed/mikro-minimoede-13
DTSTART:20260616T150000Z
DTEND:20260616T163000Z
LOCATION:Thistedspejderne\, Vegendalvej 15\, 7700 Thisted
END:VEVENT
BEGIN:VEVENT
UID:gruppeweb.dk:6206:event:748
DTSTAMP:20260424T153031Z
LAST-MODIFIED:20251116T183846Z
SUMMARY:Mikro-minimøde
DESCRIPTION:\n
URL:https://www.thistedspejderne.dk/begivenhed/mikro-minimoede-14
DTSTART:20260609T150000Z
DTEND:20260609T163000Z
LOCATION:Thistedspejderne\, Vegendalvej 15\, 7700 Thisted
END:VEVENT
BEGIN:VEVENT
UID:gruppeweb.dk:6206:event:749
DTSTAMP:20260424T153031Z
LAST-MODIFIED:20251116T183846Z
SUMMARY:Mikro-minimøde
DESCRIPTION:\n
URL:https://www.thistedspejderne.dk/begivenhed/mikro-minimoede-15
DTSTART:20260602T150000Z
DTEND:20260602T163000Z
LOCATION:Thistedspejderne\, Vegendalvej 15\, 7700 Thisted
END:VEVENT
BEGIN:VEVENT
UID:gruppeweb.dk:6206:event:750
DTSTAMP:20260424T153031Z
LAST-MODIFIED:20251116T183846Z
SUMMARY:Mikro-minimøde
DESCRIPTION:\n
URL:https://www.thistedspejderne.dk/begivenhed/mikro-minimoede-16
DTSTART:20260526T150000Z
DTEND:20260526T163000Z
LOCATION:Thistedspejderne\, Vegendalvej 15\, 7700 Thisted
END:VEVENT
BEGIN:VEVENT
UID:gruppeweb.dk:6206:event:751
DTSTAMP:20260424T153031Z
LAST-MODIFIED:20251116T183846Z
SUMMARY:Mikro-minimøde
DESCRIPTION:\n
URL:https://www.thistedspejderne.dk/begivenhed/mikro-minimoede-17
DTSTART:20260519T150000Z
DTEND:20260519T163000Z
LOCATION:Thistedspejderne\, Vegendalvej 15\, 7700 Thisted
END:VEVENT
BEGIN:VEVENT
UID:gruppeweb.dk:6206:event:752
DTSTAMP:20260424T153031Z
LAST-MODIFIED:20251116T183846Z
SUMMARY:Mikro-minimøde
DESCRIPTION:\n
URL:https://www.thistedspejderne.dk/begivenhed/mikro-minimoede-18
DTSTART:20260512T150000Z
DTEND:20260512T163000Z
LOCATION:Thistedspejderne\, Vegendalvej 15\, 7700 Thisted
END:VEVENT
BEGIN:VEVENT
UID:gruppeweb.dk:6206:event:754
DTSTAMP:20260424T153031Z
LAST-MODIFIED:20251116T183846Z
SUMMARY:Mikro-minimøde
DESCRIPTION:\n
URL:https://www.thistedspejderne.dk/begivenhed/mikro-minimoede-19
DTSTART:20260428T150000Z
DTEND:20260428T163000Z
LOCATION:Thistedspejderne\, Vegendalvej 15\, 7700 Thisted
END:VEVENT
BEGIN:VEVENT
UID:gruppeweb.dk:6206:event:756
DTSTAMP:20260424T153031Z
LAST-MODIFIED:20251116T183846Z
SUMMARY:Mikro-minimøde
DESCRIPTION:\n
URL:https://www.thistedspejderne.dk/begivenhed/mikro-minimoede-20
DTSTART:20260414T150000Z
DTEND:20260414T163000Z
LOCATION:Thistedspejderne\, Vegendalvej 15\, 7700 Thisted
END:VEVENT
BEGIN:VEVENT
UID:gruppeweb.dk:6206:event:757
DTSTAMP:20260424T153031Z
LAST-MODIFIED:20251116T183846Z
SUMMARY:Mikro-minimøde
DESCRIPTION:\n
URL:https://www.thistedspejderne.dk/begivenhed/mikro-minimoede-21
DTSTART:20260407T150000Z
DTEND:20260407T163000Z
LOCATION:Thistedspejderne\, Vegendalvej 15\, 7700 Thisted
END:VEVENT
BEGIN:VEVENT
UID:gruppeweb.dk:6206:event:758
DTSTAMP:20260424T153031Z
LAST-MODIFIED:20251116T183846Z
SUMMARY:Mikro-minimøde
DESCRIPTION:\n
URL:https://www.thistedspejderne.dk/begivenhed/mikro-minimoede-22
DTSTART:20260331T150000Z
DTEND:20260331T163000Z
LOCATION:Thistedspejderne\, Vegendalvej 15\, 7700 Thisted
END:VEVENT
BEGIN:VEVENT
UID:gruppeweb.dk:6206:event:759
DTSTAMP:20260424T153031Z
LAST-MODIFIED:20251116T183846Z
SUMMARY:Mikro-minimøde
DESCRIPTION:\n
URL:https://www.thistedspejderne.dk/begivenhed/mikro-minimoede-23
DTSTART:20260324T160000Z
DTEND:20260324T173000Z
LOCATION:Thistedspejderne\, Vegendalvej 15\, 7700 Thisted
END:VEVENT
BEGIN:VEVENT
UID:gruppeweb.dk:6206:event:760
DTSTAMP:20260424T153031Z
LAST-MODIFIED:20251116T183846Z
SUMMARY:Mikro-minimøde
DESCRIPTION:\n
URL:https://www.thistedspejderne.dk/begivenhed/mikro-minimoede-24
DTSTART:20260317T160000Z
DTEND:20260317T173000Z
LOCATION:Thistedspejderne\, Vegendalvej 15\, 7700 Thisted
END:VEVENT
BEGIN:VEVENT
UID:gruppeweb.dk:6206:event:761
DTSTAMP:20260424T153031Z
LAST-MODIFIED:20251116T183846Z
SUMMARY:Mikro-minimøde
DESCRIPTION:\n
URL:https://www.thistedspejderne.dk/begivenhed/mikro-minimoede-25
DTSTART:20260310T160000Z
DTEND:20260310T173000Z
LOCATION:Thistedspejderne\, Vegendalvej 15\, 7700 Thisted
END:VEVENT
BEGIN:VEVENT
UID:gruppeweb.dk:6206:event:762
DTSTAMP:20260424T153031Z
LAST-MODIFIED:20251116T183846Z
SUMMARY:Mikro-minimøde
DESCRIPTION:\n
URL:https://www.thistedspejderne.dk/begivenhed/mikro-minimoede-26
DTSTART:20260303T160000Z
DTEND:20260303T173000Z
LOCATION:Thistedspejderne\, Vegendalvej 15\, 7700 Thisted
END:VEVENT
BEGIN:VEVENT
UID:gruppeweb.dk:6206:event:764
DTSTAMP:20260424T153031Z
LAST-MODIFIED:20251116T183846Z
SUMMARY:Mikro-minimøde
DESCRIPTION:\n
URL:https://www.thistedspejderne.dk/begivenhed/mikro-minimoede-27
DTSTART:20260217T160000Z
DTEND:20260217T173000Z
LOCATION:Thistedspejderne\, Vegendalvej 15\, 7700 Thisted
END:VEVENT
BEGIN:VEVENT
UID:gruppeweb.dk:6206:event:765
DTSTAMP:20260424T153031Z
LAST-MODIFIED:20251116T183846Z
SUMMARY:Mikro-minimøde
DESCRIPTION:\n
URL:https://www.thistedspejderne.dk/begivenhed/mikro-minimoede-28
DTSTART:20260210T160000Z
DTEND:20260210T173000Z
LOCATION:Thistedspejderne\, Vegendalvej 15\, 7700 Thisted
END:VEVENT
BEGIN:VEVENT
UID:gruppeweb.dk:6206:event:766
DTSTAMP:20260424T153031Z
LAST-MODIFIED:20251116T183846Z
SUMMARY:Mikro-minimøde
DESCRIPTION:\n
URL:https://www.thistedspejderne.dk/begivenhed/mikro-minimoede-29
DTSTART:20260203T160000Z
DTEND:20260203T173000Z
LOCATION:Thistedspejderne\, Vegendalvej 15\, 7700 Thisted
END:VEVENT
BEGIN:VEVENT
UID:gruppeweb.dk:6206:event:767
DTSTAMP:20260424T153031Z
LAST-MODIFIED:20251116T183846Z
SUMMARY:Mikro-minimøde
DESCRIPTION:\n
URL:https://www.thistedspejderne.dk/begivenhed/mikro-minimoede-30
DTSTART:20260127T160000Z
DTEND:20260127T173000Z
LOCATION:Thistedspejderne\, Vegendalvej 15\, 7700 Thisted
END:VEVENT
BEGIN:VEVENT
UID:gruppeweb.dk:6206:event:768
DTSTAMP:20260424T153031Z
LAST-MODIFIED:20251116T183846Z
SUMMARY:Mikro-minimøde
DESCRIPTION:\n
URL:https://www.thistedspejderne.dk/begivenhed/mikro-minimoede-31
DTSTART:20260120T160000Z
DTEND:20260120T173000Z
LOCATION:Thistedspejderne\, Vegendalvej 15\, 7700 Thisted
END:VEVENT
BEGIN:VEVENT
UID:gruppeweb.dk:6206:event:769
DTSTAMP:20260424T153031Z
LAST-MODIFIED:20251116T183846Z
SUMMARY:Mikro-minimøde
DESCRIPTION:\n
URL:https://www.thistedspejderne.dk/begivenhed/mikro-minimoede-32
DTSTART:20260113T160000Z
DTEND:20260113T173000Z
LOCATION:Thistedspejderne\, Vegendalvej 15\, 7700 Thisted
END:VEVENT
BEGIN:VEVENT
UID:gruppeweb.dk:6206:event:770
DTSTAMP:20260424T153031Z
LAST-MODIFIED:20251116T183846Z
SUMMARY:Mikro-minimøde
DESCRIPTION:\n
URL:https://www.thistedspejderne.dk/begivenhed/mikro-minimoede-33
DTSTART:20260106T160000Z
DTEND:20260106T173000Z
LOCATION:Thistedspejderne\, Vegendalvej 15\, 7700 Thisted
END:VEVENT
BEGIN:VEVENT
UID:gruppeweb.dk:6206:event:860
DTSTAMP:20260424T153031Z
LAST-MODIFIED:20260111T153409Z
SUMMARY:Fælles tænkedagsmøde
DESCRIPTION:\n
URL:https://www.thistedspejderne.dk/begivenhed/faelles-taenkedagsmoede
DTSTART:20260225T160000Z
DTEND:20260225T180000Z
LOCATION:
END:VEVENT
BEGIN:VEVENT
UID:gruppeweb.dk:6206:event:862
DTSTAMP:20260424T153031Z
LAST-MODIFIED:20260322T115546Z
SUMMARY:Fælles Sct. Georgsdag
DESCRIPTION:\n
URL:https://www.thistedspejderne.dk/begivenhed/faelles-sct-georgsdag
DTSTART:20260423T150000Z
DTEND:20260423T163000Z
LOCATION:Lejrpladsen Tipi\, Tandrupvej 1\, 7700 Thisted
END:VEVENT
END:VCALENDAR
